BEGIN:VCALENDAR
VERSION:2.0
PRODID:-//StartSmart HW//Events//NL
CALSCALE:GREGORIAN
METHOD:PUBLISH
BEGIN:VTIMEZONE
TZID:Europe/Amsterdam
BEGIN:STANDARD
DTSTART:19701025T030000
RRULE:FREQ=YEARLY;BYDAY=-1SU;BYMONTH=10
TZOFFSETFROM:+0200
TZOFFSETTO:+0100
TZNAME:CET
END:STANDARD
BEGIN:DAYLIGHT
DTSTART:19700329T020000
RRULE:FREQ=YEARLY;BYDAY=-1SU;BYMONTH=3
TZOFFSETFROM:+0100
TZOFFSETTO:+0200
TZNAME:CEST
END:DAYLIGHT
END:VTIMEZONE
BEGIN:VEVENT
UID:14d14828-9e27-4cee-b40f-172fe4bce70f@startsmarthw.nl
DTSTAMP:20260421T104818Z
DTSTART;TZID=Europe/Amsterdam:20250328T170000
DTEND;TZID=Europe/Amsterdam:20250328T190000
SUMMARY:Netwerkborrel bij bistro Ruisseau
DESCRIPTION:StartersNetwerk Borrel\nMeer info: https://startersnetwerkhoekschewaard.nl/events/netwerkborrel-bij-bistro-ruisseau
LOCATION:Bistro Ruisseau\, Oostdijk 54\, Oud-Beijerland
URL:https://startersnetwerkhoekschewaard.nl/events/netwerkborrel-bij-bistro-ruisseau
END:VEVENT
END:VCALENDAR
